BEGIN:VCALENDAR
VERSION:2.0
PRODID:-//wp-events-plugin.com//7.2.3.1//EN
TZID:Europe/London
X-WR-TIMEZONE:Europe/London
BEGIN:VEVENT
UID:45@isleofmanbasketball.com
DTSTART;TZID=Europe/London:20251102T140000
DTEND;TZID=Europe/London:20251102T150000
DTSTAMP:20251021T144854Z
URL:https://www.isleofmanbasketball.com/events/3x3-winter-tournament/
SUMMARY:3x3 Winter Tournament
DESCRIPTION:Sign up for the 3×3 Winter Tournament running every Sunday aft
 ernoon from November 2nd. Teams must have a minimum of 4 players and a max
 ium of 5 and players must be aged 14 or older. Registration costs £75 per
  team with teams guaranteed 3 games per week. Use the form below to regist
 er your team!\n—\nTeam Registration Form\n[forminator_form id="2751"]
ATTACH;FMTTYPE=image/jpeg:https://www.isleofmanbasketball.com/wp-content/u
 ploads/2025/10/IMG_8114.jpg
CATEGORIES:3x3,IOMBBA,Leagues
LOCATION:The Roundhouse\, Strang Corner Field\, Ballaoates Rd\, Strang\, IM
 4 4RE\, Isle of Man
GEO:54.179808;-4.506781
X-APPLE-STRUCTURED-LOCATION;VALUE=URI;X-ADDRESS=Strang Corner Field\, Balla
 oates Rd\, Strang\, IM4 4RE\, Isle of Man;X-APPLE-RADIUS=100;X-TITLE=The R
 oundhouse:geo:54.179808,-4.506781
END:VEVENT
BEGIN:VTIMEZONE
TZID:Europe/London
X-LIC-LOCATION:Europe/London
BEGIN:STANDARD
DTSTART:20251026T010000
TZOFFSETFROM:+0100
TZOFFSETTO:+0000
TZNAME:GMT
END:STANDARD
END:VTIMEZONE
END:VCALENDAR