BEGIN:VCALENDAR
VERSION:2.0
PRODID:-//wp-events-plugin.com//7.2.3.1//EN
TZID:Europe/London
X-WR-TIMEZONE:Europe/London
BEGIN:VEVENT
UID:129@isleofmanbasketball.com
DTSTART;TZID=Europe/Isle_of_Man:20260522T000000
DTEND;TZID=Europe/Isle_of_Man:20260525T000000
DTSTAMP:20260408T111040Z
URL:https://www.isleofmanbasketball.com/events/cwg-qualifiers/
SUMMARY:CWG Qualifiers
DESCRIPTION:The Island's Men &amp\; Ladies Teams will be competing in the H
 ome Nations qualifiers for the 2026 Glasgow Commonwealth Games.\n\n&nbsp\;
 \n\nEngland to host 3x3 Commonwealth Games qualification
ATTACH;FMTTYPE=image/jpeg:https://www.isleofmanbasketball.com/wp-content/u
 ploads/2026/04/IOMBBA3x3-02.png
CATEGORIES:3x3,CWG,Island Teams
END:VEVENT
BEGIN:VTIMEZONE
TZID:Europe/Isle_of_Man
X-LIC-LOCATION:Europe/Isle_of_Man
BEGIN:DAYLIGHT
DTSTART:20260329T020000
TZOFFSETFROM:+0000
TZOFFSETTO:+0100
TZNAME:BST
END:DAYLIGHT
END:VTIMEZONE
END:VCALENDAR