BEGIN:VCALENDAR
VERSION:2.0
PRODID:-//wp-events-plugin.com//7.2.3.1//EN
TZID:Europe/London
X-WR-TIMEZONE:Europe/London
BEGIN:VEVENT
UID:126@isleofmanbasketball.com
DTSTART;TZID=Europe/London:20260509T090000
DTEND;TZID=Europe/London:20260509T150000
DTSTAMP:20260408T110718Z
URL:https://www.isleofmanbasketball.com/events/manx-youth-games/
SUMMARY:Manx Youth Games
DESCRIPTION:This year the Sporting Club Manx Youth Games will be held on S
 aturday 9th May 2026\, with training sessions commencing on Monday 19th 
 January 2026.
ATTACH;FMTTYPE=image/jpeg:https://www.isleofmanbasketball.com/wp-content/u
 ploads/2026/01/myglogo.png
CATEGORIES:Junior,Manx Youth Games
LOCATION:St Ninian's Lower School (Bemahague)\, Heywood Ave\, Onchan\, IM3 
 3AR\, Isle of Man
X-APPLE-STRUCTURED-LOCATION;VALUE=URI;X-ADDRESS=Heywood Ave\, Onchan\, IM3 
 3AR\, Isle of Man;X-APPLE-RADIUS=100;X-TITLE=St Ninian's Lower School (Bem
 ahague):geo:0,0
END:VEVENT
BEGIN:VTIMEZONE
TZID:Europe/London
X-LIC-LOCATION:Europe/London
BEGIN:DAYLIGHT
DTSTART:20260329T020000
TZOFFSETFROM:+0000
TZOFFSETTO:+0100
TZNAME:BST
END:DAYLIGHT
END:VTIMEZONE
END:VCALENDAR