BEGIN:VCALENDAR
VERSION:2.0
PRODID:-//wp-events-plugin.com//7.2.3.1//EN
TZID:Europe/London
X-WR-TIMEZONE:Europe/London
BEGIN:VEVENT
UID:20@isleofmanbasketball.com
DTSTART;TZID=Europe/London;VALUE=DATE:20260803
DTEND;TZID=Europe/London;VALUE=DATE:20260808
DTSTAMP:20250924T162233Z
URL:https://www.isleofmanbasketball.com/events/nbc-camps-2026/
SUMMARY:NBC Camps 2026
DESCRIPTION:Group trip to week one of NBC UK Basketball Camp on August 3rd-
 7th 2026.\n\nNBC UK runs two weeks of basketball training in August at Mal
 vern St James\, Worcs. with top UK &amp\; US coaches as well as players fr
 om around the world. More details can be found at www.nbccamps.co.uk.\n\nT
 he total cost of this trip will be £580\, which includes return travel ar
 rangements and full board accommodation at the camp. Note that numbers for
  this trip are limited and there is a £50 non-refundable deposit to secur
 e a place.\n\nIf you would like your child to be considered for this trip\
 , then please complete the form below:\n\n&nbsp\;\nNBC IOM 2026 Trip Sign 
 Up Form\n[forminator_form id="3116"]
ATTACH;FMTTYPE=image/jpeg:https://www.isleofmanbasketball.com/wp-content/u
 ploads/2025/09/NBCText600.png
CATEGORIES:Junior,NBC Camps,Training
LOCATION:NBC Malvern\, 15 Avenue Road\, Malvern\, WR14 3BA\, England
GEO:52.110683;-2.317255
X-APPLE-STRUCTURED-LOCATION;VALUE=URI;X-ADDRESS=15 Avenue Road\, Malvern\, 
 WR14 3BA\, England;X-APPLE-RADIUS=100;X-TITLE=NBC Malvern:geo:52.110683,-2
 .317255
END:VEVENT
BEGIN:VTIMEZONE
TZID:Europe/London
X-LIC-LOCATION:Europe/London
BEGIN:DAYLIGHT
DTSTART:20260329T020000
TZOFFSETFROM:+0000
TZOFFSETTO:+0100
TZNAME:BST
END:DAYLIGHT
END:VTIMEZONE
END:VCALENDAR